BEGIN:VCALENDAR
VERSION:2.0
PRODID:icalendar-ruby
CALSCALE:GREGORIAN
METHOD:PUBLISH
BEGIN:VEVENT
DTSTAMP:20260419T234057Z
UID:5-389417@eminencebaptist.tithelysetup5.com
DTSTART:20260802T153000Z
DTEND:20260802T163000Z
CLASS:PUBLIC
CREATED:20260419T151822
DESCRIPTION:Sunday Worship
LAST-MODIFIED:20260419T151822
LOCATION:
SUMMARY:Sunday Worship
URL;VALUE=URI:https://eminencebaptist.org/events/sunday-worship/2026-08-02
END:VEVENT
END:VCALENDAR
