BEGIN:VCALENDAR
VERSION:2.0
PRODID:icalendar-ruby
CALSCALE:GREGORIAN
METHOD:PUBLISH
BEGIN:VEVENT
DTSTAMP:20260420T061944Z
UID:5-389943@eminencebaptist.tithelysetup5.com
DTSTART:20260830T153000Z
DTEND:20260830T163000Z
CLASS:PUBLIC
CREATED:20260419T223830
DESCRIPTION:Sunday Worship
LAST-MODIFIED:20260419T223830
LOCATION:
SUMMARY:Sunday Worship
URL;VALUE=URI:https://eminencebaptist.org/events/sunday-worship/2026-08-30
END:VEVENT
END:VCALENDAR
