BEGIN:VCALENDAR
VERSION:2.0
PRODID:icalendar-ruby
CALSCALE:GREGORIAN
METHOD:PUBLISH
BEGIN:VEVENT
DTSTAMP:20260422T104943Z
UID:5-393344@eminencebaptist.tithelysetup5.com
DTSTART:20261025T153000Z
DTEND:20261025T163000Z
CLASS:PUBLIC
CREATED:20260421T201011
DESCRIPTION:Sunday Worship
LAST-MODIFIED:20260421T201011
LOCATION:
SUMMARY:Sunday Worship
URL;VALUE=URI:https://eminencebaptist.org/events/sunday-worship/2026-10-25
END:VEVENT
END:VCALENDAR
